BEGIN:VCALENDAR
VERSION:2.0
PRODID:-//wp-events-plugin.com//7.2.3.1//EN
TZID:Europe/Berlin
X-WR-TIMEZONE:Europe/Berlin
BEGIN:VEVENT
UID:300@wir-halle.de
DTSTART;TZID=Europe/Berlin:20251105T190000
DTEND;TZID=Europe/Berlin:20251105T210000
DTSTAMP:20251013T201606Z
URL:https://wir-halle.de/events/ausgelesen-eingeschenkt-ein-weinleseabend-
 mit-der-buergerstiftung-halle/
SUMMARY:Ausgelesen &amp\; Eingeschenkt - Ein Weinleseabend mit der Bürgers
 tiftung Halle
DESCRIPTION:Vorstandsmitglieder und das Team der Geschäftsstelle der Bürg
 erstiftung laden zu einem unterhaltsamen literarischen Abend ein. Gelesen 
 werden Auszüge aus ihren liebsten Büchern – persönlich\, spannend\, 
 überraschend.\nAls besonderes Highlight wird an diesem Abend auch der ers
 te Stiftungswein der Bürgerstiftung präsentiert – ein idealer Begleite
 r für anregende Gespräche\, zu denen im Anschluss an die Lesung herzlich
  eingeladen wird.\n\n&nbsp\;\n\nDer Eintritt ist frei. Aufgrund der begren
 zten Plätze bitten wir Sie dennoch\, sich vorher anzumelden.\nEntweder un
 ter https://buergerstiftung-halle-weinleseabend.eventbrite.de\noder per E-
 Mail veranstaltungen@buergerstiftung-halle.de.
CATEGORIES:lesen
LOCATION:Literaturhaus Halle\, Bernburger Straße 8\, Halle\, 06108\, Deuts
 chland
GEO:51.493559;11.965799
X-APPLE-STRUCTURED-LOCATION;VALUE=URI;X-ADDRESS=Bernburger Straße 8\, Hall
 e\, 06108\, Deutschland;X-APPLE-RADIUS=100;X-TITLE=Literaturhaus Halle:geo
 :51.493559,11.965799
END:VEVENT
BEGIN:VTIMEZONE
TZID:Europe/Berlin
X-LIC-LOCATION:Europe/Berlin
BEGIN:STANDARD
DTSTART:20251026T020000
TZOFFSETFROM:+0200
TZOFFSETTO:+0100
TZNAME:CET
END:STANDARD
END:VTIMEZONE
END:VCALENDAR