BEGIN:VCALENDAR
VERSION:2.0
PRODID:-//wp-events-plugin.com//7.2.3.1//EN
TZID:Europe/Berlin
X-WR-TIMEZONE:Europe/Berlin
BEGIN:VEVENT
UID:286@wir-halle.de
DTSTART;TZID=Europe/Berlin:20251109T110000
DTEND;TZID=Europe/Berlin:20251109T130000
DTSTAMP:20251013T202231Z
URL:https://wir-halle.de/events/moral-und-unmut-ein-gespraech-aus-aktuelle
 m-anlass-mit-der-autorin-anne-rabe-und-dem-publizisten-matthias-meisner/
SUMMARY:„Moral und Unmut“ – Ein Gespräch aus aktuellem Anlass mit de
 r Autorin Anne Rabe und dem Publizisten Matthias Meisner
DESCRIPTION:Rauhe Zeiten allerorten! Auch und gerade in Halle (Saale) diese
 r Tage. Was in der öffentlichen Auseinandersetzung um einen „Seitenwech
 sel“ wahlweise mit „Selbstverharmlosung“ oder schlicht „Diskursver
 schiebung“ umschrieben wird\, ist in Wahrheit ein Kampf um Deutungshohei
 t bzw. ein „Kampf um die Köpfe“. Es ist kein Zufall\, dass vor allem 
 im Bereich der Literatur diese Auseinandersetzung besonders erbittert gef
 ührt wird. Der Mangel an gängigen und erkennbaren Gegenkonzepten wird vi
 elerorts beklagt. Ein Grund zum Verzweifeln? Nein – sagen zwei Autoren\,
  die in Halle aufeinandertreffen. Und sie haben triftige Gründe\, gute Ar
 gumente und mehr als lesenswerte Bücher im Gepäck.\n Anne Rabe\n„Das 
 M-Wort. Gegen die Verachtung der Moral.“\nPlatz 3 Sachbuchbestenliste Di
 e Zeit\, Deutschlandfunk und ZDF\n\n In einer Zeit\, in der Moral im gese
 llschaftspolitischen Diskurs bereits zum Unwort verkommen scheint\, stellt
  Anne Rabe die entscheidende Frage: Können wir uns eine Welt ohne »M-Wor
 t«\, ohne Moral leisten? Anhand konkreter Beispiele – wie dem Umgang mi
 t Armut\, Migrations- und Klimapolitik\, steigender Radikalisierung – be
 leuchtet sie auf persönliche Weise die gefährlichen Folgen der Verächtl
 ichmachung von Moral in Deutschland.\n\nIm Januar 2025 erlebt Deutschland 
 einen Tabubruch: Zum ersten Mal seit Gründung der Bundesrepublik sind es 
 Rechtsextreme\, die in einer Abstimmung im Bundestag für die entscheidend
 e Mehrheit sorgen. Das ist nur der vorläufige Höhepunkt einer schon lang
 e zu beobachtenden Verschiebung im politischen Diskurs. Die neuen Weichens
 tellungen des 21. Jahrhunderts haben die Demokratien weltweit unter Druck 
 gesetzt. Autokratien und Imperialismus sind wieder auf dem Vormarsch. Mora
 lische Beweggründe stehen nicht mehr an oberster Stelle der Tagesordnung.
  Welch verführerischer Sog darin liegt\, kann man überall dort beobachte
 n\, wo auch Demokraten ihm nachgeben. Erhellend erläutert Anne Rabe\, wie
  Moral schrittweise aus dem gesellschaftspolitischen Diskurs verdrängt wi
 rd\, warum dies so bedrohlich ist und wie moralisches Denken und Handeln T
 eil der Problemlösungen unserer Zeit sein kann. Eine brillante Analyse\, 
 die in einer pessimistisch stimmenden Weltlage Anlass zur Hoffnung gibt.\n
 \nAnne Rabe\, geboren 1986\, ist Dramatikerin\, Drehbuchautorin und Essayi
 stin. Ihre Theaterstücke wurden mehrfach ausgezeichnet. Als Drehbuchautor
 in war sie Teil der Kultserie »Warten auf’n Bus«. Seit mehreren Jahren
  tritt sie zudem als Essayistin und Vortragende zur Vergangenheitsbewälti
 gung in Ostdeutschland in Erscheinung. Anne Rabe lebt in Berlin. »Die Mö
 glichkeit von Glück« war ihr Prosadebüt.\n\n&nbsp\;\nMatthias Meisner /
  Paul Starzmann\n„Mut zum Unmut. Eine Anleitung zur politischen Widerspe
 nstigkeit“\n Es gibt eine gute Kraft der Renitenz! Und wir brauchen sie
  gerade jetzt\, wo negative Nachrichten und Resignation alles zu dominiere
 n scheinen. Dieses Buch hat einen erfrischenden Ansatz: Es plädiert dafü
 r\, aktiv zu werden\, die Gleichgültigkeit abzulegen\, »Nein!« zu sagen
 \, anzuecken – im Job\, auf der Straße und in der Politik. Die Autoren 
 finden dafür viele prominente Beispiele von Menschen\, die unbequem sind\
 , aufbegehren und ihre Finger absichtlich in Wunden legen wie Petra Kelly\
 , Kevin Kühnert\, Werner Schulz\, Marco Wanderwitz\, Kristina Hänel\, An
 ne Wizorek\, Marie von Kuck\, Heidi Reichinnek u. v. a.\n\n»Quertreiber«
  haben bei uns keinen guten Ruf. Überall wird Anpassung verlangt. Die Aut
 oren drehen den Spieß um. Sie zeigen anhand konkreter Fälle\, warum es g
 efährlich ist\, wenn niemand mehr den Mut hat\, »Nein!« zu sagen\, und 
 wie konstruktiver Ungehorsam geht. Sie rufen dazu auf\, die Renitenz nicht
  den Rechten zu überlassen. Widerstand ja\, aber fröhlich\, nicht verbit
 tert\, fair\, nicht fies! Eine Mischung aus Ratgeber\, politischem Sachbuc
 h und Streitschrift – mit Inspirationen für alle\, die unzufrieden sind
  mit den aktuellen Zuständen und die glauben\, dass wir es besser können
 .\n\nMatthias Meisner\, geb. 1961\, ist freier Journalist und Buchautor. E
 r schreibt unter anderem für die taz\, die Blätter für deutsche und int
 ernationale Politik\, den Volksverpetzer und das Katapult-Magazin. Seine T
 hemen: Menschenrechte\, Demokratie\, Rechtsextremismus\, Feminismus. Er le
 bt in Berlin und Tirana.\n\n&nbsp\;\n\nModeration: Alexander Suckel\n\nDen
  Live-Stream können Sie hier verfolgen.\nDie Aufzeichnung der Veranstaltu
 ng sehen Sie ab 11.11.2025 hier. \n\nEine Veranstaltung mit freundlicher 
 Unterstützung des Netzwerks der deutschsprachigen Literaturhäuser. \n\n
 &nbsp\;
CATEGORIES:diskutieren
LOCATION:Literaturhaus Halle\, Bernburger Straße 8\, Halle\, 06108\, Deuts
 chland
GEO:51.493559;11.965799
X-APPLE-STRUCTURED-LOCATION;VALUE=URI;X-ADDRESS=Bernburger Straße 8\, Hall
 e\, 06108\, Deutschland;X-APPLE-RADIUS=100;X-TITLE=Literaturhaus Halle:geo
 :51.493559,11.965799
END:VEVENT
BEGIN:VTIMEZONE
TZID:Europe/Berlin
X-LIC-LOCATION:Europe/Berlin
BEGIN:STANDARD
DTSTART:20251026T020000
TZOFFSETFROM:+0200
TZOFFSETTO:+0100
TZNAME:CET
END:STANDARD
END:VTIMEZONE
END:VCALENDAR